BEGIN:VCALENDAR
VERSION:2.0
PRODID:-// - ECPv6.15.20//NONSGML v1.0//EN
CALSCALE:GREGORIAN
METHOD:PUBLISH
X-ORIGINAL-URL:https://bks-essen.eu
X-WR-CALDESC:Veranstaltungen für 
REFRESH-INTERVAL;VALUE=DURATION:PT1H
X-Robots-Tag:noindex
X-PUBLISHED-TTL:PT1H
BEGIN:VTIMEZONE
TZID:Europe/Berlin
BEGIN:DAYLIGHT
TZOFFSETFROM:+0100
TZOFFSETTO:+0200
TZNAME:CEST
DTSTART:20250330T010000
END:DAYLIGHT
BEGIN:STANDARD
TZOFFSETFROM:+0200
TZOFFSETTO:+0100
TZNAME:CET
DTSTART:20251026T010000
END:STANDARD
BEGIN:DAYLIGHT
TZOFFSETFROM:+0100
TZOFFSETTO:+0200
TZNAME:CEST
DTSTART:20260329T010000
END:DAYLIGHT
BEGIN:STANDARD
TZOFFSETFROM:+0200
TZOFFSETTO:+0100
TZNAME:CET
DTSTART:20261025T010000
END:STANDARD
BEGIN:DAYLIGHT
TZOFFSETFROM:+0100
TZOFFSETTO:+0200
TZNAME:CEST
DTSTART:20270328T010000
END:DAYLIGHT
BEGIN:STANDARD
TZOFFSETFROM:+0200
TZOFFSETTO:+0100
TZNAME:CET
DTSTART:20271031T010000
END:STANDARD
END:VTIMEZONE
BEGIN:VEVENT
DTSTART;TZID=Europe/Berlin:20260703T143000
DTEND;TZID=Europe/Berlin:20260703T143000
DTSTAMP:20260422T133807
CREATED:20250909T061018Z
LAST-MODIFIED:20250909T061018Z
UID:6714-1783089000-1783089000@bks-essen.eu
SUMMARY:Abschlussgottesdienst in der St. Antonius Kirche
DESCRIPTION:
URL:https://bks-essen.eu/event/abschlussgottesdienst-in-der-st-antonius-kirche/
END:VEVENT
BEGIN:VEVENT
DTSTART;TZID=Europe/Berlin:20260703T160000
DTEND;TZID=Europe/Berlin:20260703T160000
DTSTAMP:20260422T133807
CREATED:20250909T061019Z
LAST-MODIFIED:20250909T061019Z
UID:6715-1783094400-1783094400@bks-essen.eu
SUMMARY:Entlassung der 10er - der Unterricht endet nach 6 Kurzstunden um 11:45 Uhr
DESCRIPTION:
URL:https://bks-essen.eu/event/entlassung-der-10er-der-unterricht-endet-nach-6-kurzstunden-um-1145-uhr/
END:VEVENT
BEGIN:VEVENT
DTSTART;TZID=Europe/Berlin:20260713T080000
DTEND;TZID=Europe/Berlin:20260713T080000
DTSTAMP:20260422T133807
CREATED:20250909T061130Z
LAST-MODIFIED:20250909T061130Z
UID:6716-1783929600-1783929600@bks-essen.eu
SUMMARY:Projektwoche - Thema: Schulfest
DESCRIPTION:
URL:https://bks-essen.eu/event/projektwoche-thema-schulfest/
END:VEVENT
BEGIN:VEVENT
DTSTART;TZID=Europe/Berlin:20260715T080000
DTEND;TZID=Europe/Berlin:20260715T080000
DTSTAMP:20260422T133807
CREATED:20250909T061130Z
LAST-MODIFIED:20250909T061130Z
UID:6717-1784102400-1784102400@bks-essen.eu
SUMMARY:Schulfest - 65 Jahre Bertha-Krupp-Realschule
DESCRIPTION:
URL:https://bks-essen.eu/event/schulfest-65-jahre-bertha-krupp-realschule/
END:VEVENT
BEGIN:VEVENT
DTSTART;TZID=Europe/Berlin:20260716T080000
DTEND;TZID=Europe/Berlin:20260716T080000
DTSTAMP:20260422T133807
CREATED:20250909T061130Z
LAST-MODIFIED:20250909T061130Z
UID:6718-1784188800-1784188800@bks-essen.eu
SUMMARY:Beratungsgespräche Lern- und Förderempfehlungen
DESCRIPTION:
URL:https://bks-essen.eu/event/beratungsgespraeche-lern-und-foerderempfehlungen-2/
END:VEVENT
BEGIN:VEVENT
DTSTART;TZID=Europe/Berlin:20260717T080000
DTEND;TZID=Europe/Berlin:20260717T080000
DTSTAMP:20260422T133807
CREATED:20250909T061130Z
LAST-MODIFIED:20250909T061130Z
UID:6719-1784275200-1784275200@bks-essen.eu
SUMMARY:Aushändigung der Zeugnisse - Der Unterricht endet nach der 3. Stunde um 10:40 Uhr - Sommerferienbeginn
DESCRIPTION:
URL:https://bks-essen.eu/event/aushaendigung-der-zeugnisse-der-unterricht-endet-nach-der-3-stunde-um-1040-uhr-sommerferienbeginn/
END:VEVENT
END:VCALENDAR