BEGIN:VCALENDAR
VERSION:2.0
PRODID:-// - ECPv6.15.20//NONSGML v1.0//EN
CALSCALE:GREGORIAN
METHOD:PUBLISH
X-ORIGINAL-URL:https://bks-essen.eu
X-WR-CALDESC:Veranstaltungen für 
REFRESH-INTERVAL;VALUE=DURATION:PT1H
X-Robots-Tag:noindex
X-PUBLISHED-TTL:PT1H
BEGIN:VTIMEZONE
TZID:Europe/Berlin
BEGIN:DAYLIGHT
TZOFFSETFROM:+0100
TZOFFSETTO:+0200
TZNAME:CEST
DTSTART:20250330T010000
END:DAYLIGHT
BEGIN:STANDARD
TZOFFSETFROM:+0200
TZOFFSETTO:+0100
TZNAME:CET
DTSTART:20251026T010000
END:STANDARD
BEGIN:DAYLIGHT
TZOFFSETFROM:+0100
TZOFFSETTO:+0200
TZNAME:CEST
DTSTART:20260329T010000
END:DAYLIGHT
BEGIN:STANDARD
TZOFFSETFROM:+0200
TZOFFSETTO:+0100
TZNAME:CET
DTSTART:20261025T010000
END:STANDARD
BEGIN:DAYLIGHT
TZOFFSETFROM:+0100
TZOFFSETTO:+0200
TZNAME:CEST
DTSTART:20270328T010000
END:DAYLIGHT
BEGIN:STANDARD
TZOFFSETFROM:+0200
TZOFFSETTO:+0100
TZNAME:CET
DTSTART:20271031T010000
END:STANDARD
END:VTIMEZONE
BEGIN:VEVENT
DTSTART;TZID=Europe/Berlin:20260501T080000
DTEND;TZID=Europe/Berlin:20260501T080000
DTSTAMP:20260422T103515
CREATED:20250909T060623Z
LAST-MODIFIED:20250909T060623Z
UID:6679-1777622400-1777622400@bks-essen.eu
SUMMARY:Tag der Arbeit (unterrichtsfrei)
DESCRIPTION:
URL:https://bks-essen.eu/event/tag-der-arbeit-unterrichtsfrei/
END:VEVENT
BEGIN:VEVENT
DTSTART;TZID=Europe/Berlin:20260506T080000
DTEND;TZID=Europe/Berlin:20260506T080000
DTSTAMP:20260422T103515
CREATED:20250909T060623Z
LAST-MODIFIED:20250909T060623Z
UID:6680-1778054400-1778054400@bks-essen.eu
SUMMARY:Übergabe der Blauen Briefe Jahrgänge 6-10 an die Schülerinnen und Schüler zwecks Übergabe an die Eltern
DESCRIPTION:
URL:https://bks-essen.eu/event/uebergabe-der-blauen-briefe-jahrgaenge-6-10-an-die-schuelerinnen-und-schueler-zwecks-uebergabe-an-die-eltern/
END:VEVENT
BEGIN:VEVENT
DTSTART;TZID=Europe/Berlin:20260507T150000
DTEND;TZID=Europe/Berlin:20260507T150000
DTSTAMP:20260422T103515
CREATED:20250909T060623Z
LAST-MODIFIED:20250909T060623Z
UID:6681-1778166000-1778166000@bks-essen.eu
SUMMARY:2. Elternsprechnachmittag
DESCRIPTION:
URL:https://bks-essen.eu/event/2-elternsprechnachmittag/
END:VEVENT
BEGIN:VEVENT
DTSTART;TZID=Europe/Berlin:20260511T080000
DTEND;TZID=Europe/Berlin:20260511T080000
DTSTAMP:20260422T103515
CREATED:20250909T060638Z
LAST-MODIFIED:20250909T060638Z
UID:6682-1778486400-1778486400@bks-essen.eu
SUMMARY:Klassenfahrten der Jahrgangsstufe 6
DESCRIPTION:
URL:https://bks-essen.eu/event/klassenfahrten-der-jahrgangsstufe-6/
END:VEVENT
BEGIN:VEVENT
DTSTART;TZID=Europe/Berlin:20260512T140000
DTEND;TZID=Europe/Berlin:20260512T140000
DTSTAMP:20260422T103515
CREATED:20250909T060638Z
LAST-MODIFIED:20250909T060638Z
UID:6683-1778594400-1778594400@bks-essen.eu
SUMMARY:5. Lehrerkonferenz im Schuljahr 2025/2026
DESCRIPTION:
URL:https://bks-essen.eu/event/5-lehrerkonferenz-im-schuljahr-2025-2026/
END:VEVENT
BEGIN:VEVENT
DTSTART;TZID=Europe/Berlin:20260513T080000
DTEND;TZID=Europe/Berlin:20260513T080000
DTSTAMP:20260422T103515
CREATED:20250909T060638Z
LAST-MODIFIED:20250909T060638Z
UID:6684-1778659200-1778659200@bks-essen.eu
SUMMARY:ZP10: Deutsch
DESCRIPTION:
URL:https://bks-essen.eu/event/zp10-deutsch/
END:VEVENT
BEGIN:VEVENT
DTSTART;TZID=Europe/Berlin:20260513T080000
DTEND;TZID=Europe/Berlin:20260513T080000
DTSTAMP:20260422T103515
CREATED:20250909T060638Z
LAST-MODIFIED:20250909T060638Z
UID:6685-1778659200-1778659200@bks-essen.eu
SUMMARY:Externenprüfung im Fach Deutsch
DESCRIPTION:
URL:https://bks-essen.eu/event/externenpruefung-im-fach-deutsch/
END:VEVENT
BEGIN:VEVENT
DTSTART;TZID=Europe/Berlin:20260514T080000
DTEND;TZID=Europe/Berlin:20260514T080000
DTSTAMP:20260422T103515
CREATED:20250909T060638Z
LAST-MODIFIED:20250909T060638Z
UID:6686-1778745600-1778745600@bks-essen.eu
SUMMARY:Christi Himmelfahrt (unterrichtsfrei)
DESCRIPTION:
URL:https://bks-essen.eu/event/christi-himmelfahrt-unterrichtsfrei/
END:VEVENT
BEGIN:VEVENT
DTSTART;TZID=Europe/Berlin:20260515T080000
DTEND;TZID=Europe/Berlin:20260515T080000
DTSTAMP:20260422T103515
CREATED:20250909T060812Z
LAST-MODIFIED:20250909T060812Z
UID:6687-1778832000-1778832000@bks-essen.eu
SUMMARY:Tag nach Christi Himmelfahrt (unterrichtsfrei)
DESCRIPTION:
URL:https://bks-essen.eu/event/tag-nach-christi-himmelfahrt-unterrichtsfrei/
END:VEVENT
BEGIN:VEVENT
DTSTART;TZID=Europe/Berlin:20260519T080000
DTEND;TZID=Europe/Berlin:20260519T080000
DTSTAMP:20260422T103515
CREATED:20250909T060812Z
LAST-MODIFIED:20250909T060812Z
UID:6688-1779177600-1779177600@bks-essen.eu
SUMMARY:ZP10: Englisch
DESCRIPTION:
URL:https://bks-essen.eu/event/zp10-englisch/
END:VEVENT
BEGIN:VEVENT
DTSTART;TZID=Europe/Berlin:20260519T080000
DTEND;TZID=Europe/Berlin:20260519T080000
DTSTAMP:20260422T103515
CREATED:20250909T060812Z
LAST-MODIFIED:20250909T060812Z
UID:6689-1779177600-1779177600@bks-essen.eu
SUMMARY:Externenprüfung im Fach Englisch
DESCRIPTION:
URL:https://bks-essen.eu/event/externenpruefung-im-fach-englisch/
END:VEVENT
BEGIN:VEVENT
DTSTART;TZID=Europe/Berlin:20260520T080000
DTEND;TZID=Europe/Berlin:20260520T080000
DTSTAMP:20260422T103515
CREATED:20250909T060813Z
LAST-MODIFIED:20250909T060813Z
UID:6691-1779264000-1779264000@bks-essen.eu
SUMMARY:Europaschulen: Zertifizierungsveranstaltung am Burggymnasium
DESCRIPTION:
URL:https://bks-essen.eu/event/europaschulen-zertifizierungsveranstaltung-am-burggymnasium/
END:VEVENT
BEGIN:VEVENT
DTSTART;TZID=Europe/Berlin:20260520T190000
DTEND;TZID=Europe/Berlin:20260520T190000
DTSTAMP:20260422T103515
CREATED:20250909T060812Z
LAST-MODIFIED:20250909T060812Z
UID:6690-1779303600-1779303600@bks-essen.eu
SUMMARY:2. Schulpflegschaftssitzung im Schuljahr 2025/2026
DESCRIPTION:
URL:https://bks-essen.eu/event/2-schulpflegschaftssitzung-im-schuljahr-2025-2026/
END:VEVENT
BEGIN:VEVENT
DTSTART;TZID=Europe/Berlin:20260525T080000
DTEND;TZID=Europe/Berlin:20260525T080000
DTSTAMP:20260422T103515
CREATED:20250909T060828Z
LAST-MODIFIED:20250909T060828Z
UID:6693-1779696000-1779696000@bks-essen.eu
SUMMARY:Pfingstmontag (unterrichtsfrei)
DESCRIPTION:
URL:https://bks-essen.eu/event/pfingstmontag-unterrichtsfrei/
END:VEVENT
BEGIN:VEVENT
DTSTART;TZID=Europe/Berlin:20260526T080000
DTEND;TZID=Europe/Berlin:20260526T080000
DTSTAMP:20260422T103515
CREATED:20250909T060828Z
LAST-MODIFIED:20250909T060828Z
UID:6694-1779782400-1779782400@bks-essen.eu
SUMMARY:Pfingstdienstag (unterrichtsfrei)
DESCRIPTION:
URL:https://bks-essen.eu/event/pfingstdienstag-unterrichtsfrei/
END:VEVENT
BEGIN:VEVENT
DTSTART;TZID=Europe/Berlin:20260528T080000
DTEND;TZID=Europe/Berlin:20260528T080000
DTSTAMP:20260422T103515
CREATED:20250909T060828Z
LAST-MODIFIED:20250909T060828Z
UID:6695-1779955200-1779955200@bks-essen.eu
SUMMARY:ZP10: Mathematik
DESCRIPTION:
URL:https://bks-essen.eu/event/zp10-mathematik/
END:VEVENT
BEGIN:VEVENT
DTSTART;TZID=Europe/Berlin:20260528T080000
DTEND;TZID=Europe/Berlin:20260528T080000
DTSTAMP:20260422T103515
CREATED:20250909T060900Z
LAST-MODIFIED:20250909T060900Z
UID:6696-1779955200-1779955200@bks-essen.eu
SUMMARY:Externenprüfung im Fach Mathematik
DESCRIPTION:
URL:https://bks-essen.eu/event/externenpruefung-im-fach-mathematik/
END:VEVENT
BEGIN:VEVENT
DTSTART;TZID=Europe/Berlin:20260530T090000
DTEND;TZID=Europe/Berlin:20260530T090000
DTSTAMP:20260422T103515
CREATED:20250909T060900Z
LAST-MODIFIED:20250909T060900Z
UID:6697-1780131600-1780131600@bks-essen.eu
SUMMARY:Schnuppertag neue 5er
DESCRIPTION:
URL:https://bks-essen.eu/event/schnuppertag-neue-5er/
END:VEVENT
END:VCALENDAR