BEGIN:VCALENDAR
VERSION:2.0
PRODID:-// - ECPv6.15.20//NONSGML v1.0//EN
CALSCALE:GREGORIAN
METHOD:PUBLISH
X-ORIGINAL-URL:https://bks-essen.eu
X-WR-CALDESC:Veranstaltungen für 
REFRESH-INTERVAL;VALUE=DURATION:PT1H
X-Robots-Tag:noindex
X-PUBLISHED-TTL:PT1H
BEGIN:VTIMEZONE
TZID:Europe/Berlin
BEGIN:DAYLIGHT
TZOFFSETFROM:+0100
TZOFFSETTO:+0200
TZNAME:CEST
DTSTART:20250330T010000
END:DAYLIGHT
BEGIN:STANDARD
TZOFFSETFROM:+0200
TZOFFSETTO:+0100
TZNAME:CET
DTSTART:20251026T010000
END:STANDARD
BEGIN:DAYLIGHT
TZOFFSETFROM:+0100
TZOFFSETTO:+0200
TZNAME:CEST
DTSTART:20260329T010000
END:DAYLIGHT
BEGIN:STANDARD
TZOFFSETFROM:+0200
TZOFFSETTO:+0100
TZNAME:CET
DTSTART:20261025T010000
END:STANDARD
BEGIN:DAYLIGHT
TZOFFSETFROM:+0100
TZOFFSETTO:+0200
TZNAME:CEST
DTSTART:20270328T010000
END:DAYLIGHT
BEGIN:STANDARD
TZOFFSETFROM:+0200
TZOFFSETTO:+0100
TZNAME:CET
DTSTART:20271031T010000
END:STANDARD
END:VTIMEZONE
BEGIN:VEVENT
DTSTART;TZID=Europe/Berlin:20260520T080000
DTEND;TZID=Europe/Berlin:20260520T080000
DTSTAMP:20260422T103746
CREATED:20250909T060813Z
LAST-MODIFIED:20250909T060813Z
UID:6691-1779264000-1779264000@bks-essen.eu
SUMMARY:Europaschulen: Zertifizierungsveranstaltung am Burggymnasium
DESCRIPTION:
URL:https://bks-essen.eu/event/europaschulen-zertifizierungsveranstaltung-am-burggymnasium/
END:VEVENT
BEGIN:VEVENT
DTSTART;TZID=Europe/Berlin:20260520T190000
DTEND;TZID=Europe/Berlin:20260520T190000
DTSTAMP:20260422T103746
CREATED:20250909T060812Z
LAST-MODIFIED:20250909T060812Z
UID:6690-1779303600-1779303600@bks-essen.eu
SUMMARY:2. Schulpflegschaftssitzung im Schuljahr 2025/2026
DESCRIPTION:
URL:https://bks-essen.eu/event/2-schulpflegschaftssitzung-im-schuljahr-2025-2026/
END:VEVENT
END:VCALENDAR