BEGIN:VCALENDAR
VERSION:2.0
PRODID:-// - ECPv6.15.20//NONSGML v1.0//EN
CALSCALE:GREGORIAN
METHOD:PUBLISH
X-ORIGINAL-URL:https://bks-essen.eu
X-WR-CALDESC:Veranstaltungen für 
REFRESH-INTERVAL;VALUE=DURATION:PT1H
X-Robots-Tag:noindex
X-PUBLISHED-TTL:PT1H
BEGIN:VTIMEZONE
TZID:Europe/Berlin
BEGIN:DAYLIGHT
TZOFFSETFROM:+0100
TZOFFSETTO:+0200
TZNAME:CEST
DTSTART:20250330T010000
END:DAYLIGHT
BEGIN:STANDARD
TZOFFSETFROM:+0200
TZOFFSETTO:+0100
TZNAME:CET
DTSTART:20251026T010000
END:STANDARD
BEGIN:DAYLIGHT
TZOFFSETFROM:+0100
TZOFFSETTO:+0200
TZNAME:CEST
DTSTART:20260329T010000
END:DAYLIGHT
BEGIN:STANDARD
TZOFFSETFROM:+0200
TZOFFSETTO:+0100
TZNAME:CET
DTSTART:20261025T010000
END:STANDARD
BEGIN:DAYLIGHT
TZOFFSETFROM:+0100
TZOFFSETTO:+0200
TZNAME:CEST
DTSTART:20270328T010000
END:DAYLIGHT
BEGIN:STANDARD
TZOFFSETFROM:+0200
TZOFFSETTO:+0100
TZNAME:CET
DTSTART:20271031T010000
END:STANDARD
END:VTIMEZONE
BEGIN:VEVENT
DTSTART;VALUE=DATE:20260427
DTEND;VALUE=DATE:20260428
DTSTAMP:20260420T133915
CREATED:20260226T063539Z
LAST-MODIFIED:20260226T063539Z
UID:6862-1777248000-1777334399@bks-essen.eu
SUMMARY:Verkehrserziehung: „Ruhrbahn macht Schule“ - Busfahrtraining - 5a
DESCRIPTION:
URL:https://bks-essen.eu/event/verkehrserziehung-ruhrbahn-macht-schule-busfahrtraining-5a/
END:VEVENT
BEGIN:VEVENT
DTSTART;TZID=Europe/Berlin:20260427T080000
DTEND;TZID=Europe/Berlin:20260427T080000
DTSTAMP:20260420T133915
CREATED:20250909T060604Z
LAST-MODIFIED:20250909T060604Z
UID:6677-1777276800-1777276800@bks-essen.eu
SUMMARY:Klassenfahrt Klasse 8a 8b
DESCRIPTION:
URL:https://bks-essen.eu/event/klassenfahrt-klasse-8a-8b/
END:VEVENT
END:VCALENDAR